BEGIN:VCALENDAR
VERSION:2.0
PRODID:-//hacksw/handcal//NONSGML v1.0//EN
CALSCALE:GREGORIAN
BEGIN:VEVENT
LOCATION:Kempten
DESCRIPTION:Carl Maria v. Weber: Ouvertüre und Marsch aus „Turandot“Tan Dun: Crouching Tiger\, Konzert für Violoncello und KammerorchesterModest Mussorgsky: Bilder einer Ausstellung
DTSTART:20230618T170000Z
DTEND:20230618T170000Z
SUMMARY:Sommerkonzert "Bilder"
URL;VALUE=URI:https://www.muenchner-symphoniker.de/de/node/1156
DTSTAMP:20260425T160420Z
UID:69ecc9e43820c
END:VEVENT
END:VCALENDAR