BEGIN:VCALENDAR
VERSION:2.0
PRODID:-//hacksw/handcal//NONSGML v1.0//EN
CALSCALE:GREGORIAN
BEGIN:VEVENT
LOCATION:Stadtsparkasse München\, Sparkassenstraße 2\, 80331
DESCRIPTION:Auch in diesem Jahr bringen Mitglieder der Münchner Symphoniker vorweihnachtliche Stimmung mitten in die Stadt. In der Kundenhalle der Stadtsparkasse in der Hauptstelle im Tal schenken Ihnen die Musiker eine kleine\, besinnliche und heitere Auszeit vom Trubel in der Fußgängerzone. Lassen Sie sich verzaubern und genießen Sie festliche Melodien und harmonische Klänge - bei freiem Eintritt!
DTSTART:20231205T140000Z
DTEND:20231205T140000Z
SUMMARY:Adventskonzerte in der Stadtsparkasse
URL;VALUE=URI:https://www.muenchner-symphoniker.de/de/node/1329
DTSTAMP:20260423T215829Z
UID:69ea79e58fd2c
END:VEVENT
END:VCALENDAR