BEGIN:VCALENDAR
VERSION:2.0
PRODID:-//hacksw/handcal//NONSGML v1.0//EN
CALSCALE:GREGORIAN
BEGIN:VEVENT
LOCATION:Sparkassenstraße 2\, München\, 80331
DESCRIPTION:
DTSTART:20241213T140000Z
DTEND:20241213T140000Z
SUMMARY:Adventskonzert
URL;VALUE=URI:https://www.muenchner-symphoniker.de/de/events/adventskonzert-13122024
DTSTAMP:20260423T171106Z
UID:69ea368ae30a6
END:VEVENT
END:VCALENDAR