BEGIN:VCALENDAR
VERSION:2.0
PRODID:-//hacksw/handcal//NONSGML v1.0//EN
CALSCALE:GREGORIAN
BEGIN:VEVENT
LOCATION:München
DESCRIPTION:Alexandre Desplat: Harry Potter und die Heiligtümer des Todes (2. Teil)\, restricted_html
DTSTART:20260402T180000Z
DTEND:20260402T180000Z
SUMMARY:Harry Potter und die Heiligtümer des Todes Teil 2
URL;VALUE=URI:https://www.muenchner-symphoniker.de/de/node/1531
DTSTAMP:20260423T152058Z
UID:69ea1cbac581a
END:VEVENT
END:VCALENDAR