BEGIN:VCALENDAR
VERSION:2.0
PRODID:-//hacksw/handcal//NONSGML v1.0//EN
CALSCALE:GREGORIAN
BEGIN:VEVENT
LOCATION:München
DESCRIPTION:Paul Epworth Adele Adkins: Skyfall\, restricted_html
DTSTART:20260124T190000Z
DTEND:20260124T190000Z
SUMMARY:Skyfall
URL;VALUE=URI:https://www.muenchner-symphoniker.de/de/node/1584
DTSTAMP:20260421T214839Z
UID:69e7d49701aa0
END:VEVENT
END:VCALENDAR