BEGIN:VCALENDAR
VERSION:2.0
PRODID:-//hacksw/handcal//NONSGML v1.0//EN
CALSCALE:GREGORIAN
BEGIN:VEVENT
LOCATION:Prinzregententheater München\, Prinzregentenpl. 12\, 81675
DESCRIPTION:
DTSTART:20251007T173000Z
DTEND:20251007T173000Z
SUMMARY:UNCOMMON WOMEN
URL;VALUE=URI:https://www.muenchner-symphoniker.de/de/node/1619
DTSTAMP:20260421T214904Z
UID:69e7d4b002a68
END:VEVENT
END:VCALENDAR