BEGIN:VCALENDAR
VERSION:2.0
PRODID:-//hacksw/handcal//NONSGML v1.0//EN
CALSCALE:GREGORIAN
BEGIN:VEVENT
LOCATION:Bavaria MusikStudios
DESCRIPTION:
DTSTART:20251017T170000Z
DTEND:20251017T170000Z
SUMMARY:STUDIOSOUND 1
URL;VALUE=URI:https://www.muenchner-symphoniker.de/de/node/1621
DTSTAMP:20260421T214545Z
UID:69e7d3e9939ec
END:VEVENT
END:VCALENDAR