BEGIN:VCALENDAR
VERSION:2.0
PRODID:-//hacksw/handcal//NONSGML v1.0//EN
CALSCALE:GREGORIAN
BEGIN:VEVENT
LOCATION:Bavaria MusikStudios
DESCRIPTION:
DTSTART:20260515T170000Z
DTEND:20260515T170000Z
SUMMARY:STUDIOSOUND 4
URL;VALUE=URI:https://www.muenchner-symphoniker.de/de/node/1631
DTSTAMP:20260421T214736Z
UID:69e7d45834924
END:VEVENT
END:VCALENDAR