BEGIN:VCALENDAR
VERSION:2.0
PRODID:-//hacksw/handcal//NONSGML v1.0//EN
CALSCALE:GREGORIAN
BEGIN:VEVENT
LOCATION:Schalterhalle der Stadtsparkasse München
DESCRIPTION:
DTSTART:20251127T140000Z
DTEND:20251127T140000Z
SUMMARY:CHRISTMAS CROSSOVER
URL;VALUE=URI:https://www.muenchner-symphoniker.de/de/node/1638
DTSTAMP:20260421T214731Z
UID:69e7d4539fd8d
END:VEVENT
END:VCALENDAR