BEGIN:VCALENDAR
VERSION:2.0
PRODID:-//hacksw/handcal//NONSGML v1.0//EN
CALSCALE:GREGORIAN
BEGIN:VEVENT
LOCATION:München
DESCRIPTION:
DTSTART:20260705T180000Z
DTEND:20260705T180000Z
SUMMARY:Katie Melua und die Münchner Symphoniker
URL;VALUE=URI:https://www.muenchner-symphoniker.de/de/node/1649
DTSTAMP:20260421T214612Z
UID:69e7d40486388
END:VEVENT
END:VCALENDAR