BEGIN:VCALENDAR
VERSION:2.0
PRODID:-//hacksw/handcal//NONSGML v1.0//EN
CALSCALE:GREGORIAN
BEGIN:VEVENT
LOCATION:Im See 1\, Füssen\, Deutschland\, 87629
DESCRIPTION:Fällt aufgrund der aktuellen Bedingungen leider aus!150 Jahre nach der Uraufführung von "Die Walküre" ist diese nun im Festspielhaus Neuschwanstein wieder zu hören. Zusammen mit Peter Seiffert als Siegmund\, Lioba Braun als Fricka\, Hermine May als Sieglinde und Michael Volle als Wotan und den Musiker*innen der Münchner Symphoniker zeigen wir Ihnen Ausschnitte der großartigen Musik\, wie zum Beispiel den  „Walkürenritt“\, den „Feuerzauber“\, Wotans Abschied sowie „Winterstürme“ mit Siegmund und Sieglinde. 
DTSTART:20210429T173000Z
DTEND:20210429T173000Z
SUMMARY:Abgesagt! "Walküre" in Füssen
URL;VALUE=URI:https://www.muenchner-symphoniker.de/de/node/743
DTSTAMP:20260422T210001Z
UID:69e91ab1cca49
END:VEVENT
END:VCALENDAR