BEGIN:VCALENDAR
VERSION:2.0
PRODID:-//hacksw/handcal//NONSGML v1.0//EN
CALSCALE:GREGORIAN
BEGIN:VEVENT
LOCATION:Brunnenhof der Residenz München
DESCRIPTION:Antonio Vivaldi: Die vier Jahreszeiten op. 8Astor Piazzolla: Die vier Jahreszeiten von Buenos Aires Yuri Revich: Awakening
DTSTART:20230718T180000Z
DTEND:20230718T180000Z
SUMMARY:Sommerproms im Brunnenhof
URL;VALUE=URI:https://www.muenchner-symphoniker.de/en/node/1162
DTSTAMP:20260425T214236Z
UID:69ed192c1cee7
END:VEVENT
END:VCALENDAR