BEGIN:VCALENDAR
VERSION:2.0
PRODID:-//hacksw/handcal//NONSGML v1.0//EN
CALSCALE:GREGORIAN
BEGIN:VEVENT
LOCATION:Promenadenkonzert Innsbruck
DESCRIPTION:Südländisches Flair und italienische Lebensart scheinen zum Greifen nah\, wenn unter nachtblauem Himmel eines lauen Sommerabends Klänge voller Leidenschaft und Emotion die Residenz erfüllen. Bei der „Italienischen Sommernacht“ im Brunnenhof und bei den Promenadenkonzerten in Innsbruck spielt die Oper mit ihren unsterblichen Hits die Hauptrolle. Dargeboten von hochkarätigen Solist*innen und den Münchner Symphonikern verheißen sie einen grandiosen Opernabend unter freiem Himmel – überschwänglich\, melodienselig\, mediterran.
DTSTART:20230723T173000Z
DTEND:20230723T173000Z
SUMMARY:Italienische Sommernacht
URL;VALUE=URI:https://www.muenchner-symphoniker.de/en/node/1196
DTSTAMP:20260425T231507Z
UID:69ed2edb2046f
END:VEVENT
END:VCALENDAR