BEGIN:VCALENDAR
VERSION:2.0
PRODID:-//hacksw/handcal//NONSGML v1.0//EN
CALSCALE:GREGORIAN
BEGIN:VEVENT
LOCATION:Toblach\, Italien
DESCRIPTION:Richard Wagner: Siegfried IdyllGustav Mahler: KindertotenliederFranz Schreker: Romantische Suite
DTSTART:20230715T160000Z
DTEND:20230715T160000Z
SUMMARY:Settimane Musicali Gustav Mahler
URL;VALUE=URI:https://www.muenchner-symphoniker.de/en/node/1226
DTSTAMP:20260425T191150Z
UID:69ecf5d66e362
END:VEVENT
END:VCALENDAR