BEGIN:VCALENDAR
VERSION:2.0
PRODID:-//hacksw/handcal//NONSGML v1.0//EN
CALSCALE:GREGORIAN
BEGIN:VEVENT
LOCATION:München
DESCRIPTION:Ludwig van Beethoven: Symphonie Nr. 9 d-Moll op. 125\, restricted_html
DTSTART:20260406T133000Z
DTEND:20260406T133000Z
SUMMARY:Beethoven: Symphonie Nr. 9
URL;VALUE=URI:https://www.muenchner-symphoniker.de/en/node/1529
DTSTAMP:20260420T073641Z
UID:69e5bb6901dd3
END:VEVENT
END:VCALENDAR