BEGIN:VCALENDAR
VERSION:2.0
PRODID:-//hacksw/handcal//NONSGML v1.0//EN
CALSCALE:GREGORIAN
BEGIN:VEVENT
LOCATION:Bavaria MusikStudios
DESCRIPTION:
DTSTART:20260424T170000Z
DTEND:20260424T170000Z
SUMMARY:STUDIOSOUND 3
URL;VALUE=URI:https://www.muenchner-symphoniker.de/en/node/1630
DTSTAMP:20260420T073335Z
UID:69e5baaf4f5cd
END:VEVENT
END:VCALENDAR