BEGIN:VCALENDAR
VERSION:2.0
PRODID:-//hacksw/handcal//NONSGML v1.0//EN
CALSCALE:GREGORIAN
BEGIN:VEVENT
LOCATION:Großer Kursaal Bad Füssing
DESCRIPTION:
DTSTART:20201002T173000Z
DTEND:20201002T173000Z
SUMMARY:Pomp und Puder
URL;VALUE=URI:https://www.muenchner-symphoniker.de/en/node/671
DTSTAMP:20260425T032005Z
UID:69ec16c56ef34
END:VEVENT
END:VCALENDAR